BEGIN:VCALENDAR
VERSION:2.0
PRODID:-//Emmanuel Godillon Photos - ECPv6.15.20//NONSGML v1.0//EN
CALSCALE:GREGORIAN
METHOD:PUBLISH
X-WR-CALNAME:Emmanuel Godillon Photos
X-ORIGINAL-URL:https://www.emmanuelgodillonphotos.fr
X-WR-CALDESC:Évènements pour Emmanuel Godillon Photos
REFRESH-INTERVAL;VALUE=DURATION:PT1H
X-Robots-Tag:noindex
X-PUBLISHED-TTL:PT1H
BEGIN:VTIMEZONE
TZID:Europe/Paris
BEGIN:DAYLIGHT
TZOFFSETFROM:+0100
TZOFFSETTO:+0200
TZNAME:CEST
DTSTART:20250330T010000
END:DAYLIGHT
BEGIN:STANDARD
TZOFFSETFROM:+0200
TZOFFSETTO:+0100
TZNAME:CET
DTSTART:20251026T010000
END:STANDARD
BEGIN:DAYLIGHT
TZOFFSETFROM:+0100
TZOFFSETTO:+0200
TZNAME:CEST
DTSTART:20260329T010000
END:DAYLIGHT
BEGIN:STANDARD
TZOFFSETFROM:+0200
TZOFFSETTO:+0100
TZNAME:CET
DTSTART:20261025T010000
END:STANDARD
BEGIN:DAYLIGHT
TZOFFSETFROM:+0100
TZOFFSETTO:+0200
TZNAME:CEST
DTSTART:20270328T010000
END:DAYLIGHT
BEGIN:STANDARD
TZOFFSETFROM:+0200
TZOFFSETTO:+0100
TZNAME:CET
DTSTART:20271031T010000
END:STANDARD
BEGIN:DAYLIGHT
TZOFFSETFROM:+0100
TZOFFSETTO:+0200
TZNAME:CEST
DTSTART:20280326T010000
END:DAYLIGHT
BEGIN:STANDARD
TZOFFSETFROM:+0200
TZOFFSETTO:+0100
TZNAME:CET
DTSTART:20281029T010000
END:STANDARD
END:VTIMEZONE
BEGIN:VEVENT
DTSTART;VALUE=DATE:20260106
DTEND;VALUE=DATE:20271227
DTSTAMP:20260424T090401
CREATED:20251215T094012Z
LAST-MODIFIED:20260125T162124Z
UID:1950-1767657600-1829865599@www.emmanuelgodillonphotos.fr
SUMMARY:Séances portraits
DESCRIPTION:Pour les personnes intéressées\, des séances portraits en extérieur /Intérieur. à Paimpol. /Treguier vont avoir lieu les premiers et troisièmes week-end de chaque mois  N’hésitez pas à  vous inscrire gratuitement ..les tirages numériques et papier sont payants
URL:https://www.emmanuelgodillonphotos.fr/event/seances-portraits/
CATEGORIES:Découverte,Formation,Portraits,Stage
ORGANIZER;CN="Emmanuel":MAILTO:emmanuelgodillonphotos@orange.fr
END:VEVENT
END:VCALENDAR